BEGIN:VCALENDAR
VERSION:2.0
PRODID:-//ChamberMaster//Event Calendar 2.0//EN
METHOD:PUBLISH
X-PUBLISHED-TTL:P3D
REFRESH-INTERVAL:P3D
CALSCALE:GREGORIAN
BEGIN:VEVENT
DTSTART:20251112T223000Z
DTEND:20251113T000000Z
X-MICROSOFT-CDO-ALLDAYEVENT:FALSE
SUMMARY:Business After Hours sponsored by Big Frog Custom T-shirts & more
DESCRIPTION:Please join us for this month's Business After Hours sponsored by Big Frog Custom T-shirts & More located at the Garner Chamber of Commerce.\n\n\n\nIf you are interested in SPONSORING this event contact sam@garnerchamber.com
X-ALT-DESC;FMTTYPE=text/html:Please join us for this month&#39\;s Business After Hours sponsored by Big Frog Custom T-shirts &amp\; More located at the Garner Chamber of Commerce.<br />\n<br />\nIf you are interested in SPONSORING this event contact <a href="http://sam@garnerchamber.com">sam@garnerchamber.com</a>
LOCATION:Garner Chamber of Commerce 401 Circle Dr. Garner\, NC 27529
UID:e.443.28901
SEQUENCE:3
DTSTAMP:20260421T095744Z
URL:https://business.garnerchamber.com/events/details/business-after-hours-sponsored-by-big-frog-custom-t-shirts-more-28901
END:VEVENT

END:VCALENDAR
