BEGIN:VCALENDAR
VERSION:2.0
PRODID:-//ChamberMaster//Event Calendar 2.0//EN
METHOD:PUBLISH
X-PUBLISHED-TTL:P3D
REFRESH-INTERVAL:P3D
CALSCALE:GREGORIAN
BEGIN:VEVENT
DTSTART:20251226T140000Z
DTEND:20251226T153000Z
X-MICROSOFT-CDO-ALLDAYEVENT:FALSE
SUMMARY:Coffee On Us!
DESCRIPTION:The intended audience for this event are local business owners wanting to get to know other local business owners. Our intention is to bring together local business leaders in the community to form stronger relationships and partnerships. This event is very casual. No 30 second speeches. No featured speakers. Just coffee\, great people\, and casual conversation. Be sure to tell the barista you are here for "Coffee On Us" to get your order paid for. We'll be upstairs in the back room.
X-ALT-DESC;FMTTYPE=text/html:<span style="background-color:rgb(255\, 255\, 255)\; color:rgb(16\, 27\, 33)\; font-family:brut">The intended audience for this event are local business owners wanting to get to know other local business owners. Our intention is to bring together local business leaders in the community to form stronger relationships and partnerships. This event is very casual. No 30 second speeches. No featured speakers. Just coffee\, great people\, and casual conversation. Be sure to tell the barista you are here for &quot\;Coffee On Us&quot\; to get your order paid for. We&#39\;ll be upstairs in the back room. </span>\n<div>&nbsp\;</div>\n
LOCATION:Full Bloom Coffee 141 W Main St Garner\, North Carolina 27529
UID:e.443.25667
SEQUENCE:3
DTSTAMP:20260421T232711Z
URL:https://business.garnerchamber.com/events/details/coffee-on-us-12-26-2025-25667
END:VEVENT

END:VCALENDAR
