BEGIN:VCALENDAR
VERSION:2.0
PRODID:-//ChamberMaster//Event Calendar 2.0//EN
METHOD:PUBLISH
X-PUBLISHED-TTL:P3D
REFRESH-INTERVAL:P3D
CALSCALE:GREGORIAN
BEGIN:VEVENT
DTSTART:20190927T203000Z
DTEND:20190927T220000Z
X-MICROSOFT-CDO-ALLDAYEVENT:FALSE
SUMMARY:GYP Event: Here's to the Weekend
DESCRIPTION:Celebrate the month of September with the Garner Young Professionals!! Bring a friend and let's hang out.
X-ALT-DESC;FMTTYPE=text/html:Celebrate the month of September with the Garner Young Professionals!! Bring a friend and let&#39\;s hang out.
LOCATION:Beerded Lady 1350 Fifth Ave Garner\, NC
UID:e.443.11485
SEQUENCE:3
DTSTAMP:20260420T154406Z
URL:https://business.garnerchamber.com/events/details/gyp-event-here-s-to-the-weekend-11485
END:VEVENT

END:VCALENDAR
