BEGIN:VCALENDAR
VERSION:2.0
PRODID:-//ChamberMaster//Event Calendar 2.0//EN
METHOD:PUBLISH
X-PUBLISHED-TTL:P3D
REFRESH-INTERVAL:P3D
CALSCALE:GREGORIAN
BEGIN:VEVENT
DTSTART:20250922T120000Z
DTEND:20250922T210000Z
X-MICROSOFT-CDO-ALLDAYEVENT:FALSE
SUMMARY:Notary Public Class - Registration Closed
DESCRIPTION:Registration Closed!\n\n\n\nDoes your business need a Notary? In partnership with Wake Technical Community College\, the Chamber is offering a Notary Public Training Class on Monday\, September 22. The full-day course offers an understanding of the qualifications and requirements to practice as a notary public in North Carolina. Course content includes understanding the Office of Notary Public\, general powers\, attestation\, certification\, oaths and affidavits.\n\n\n\nParticipants take an exam at the end of class and complete the application for becoming a notary public. The Notary Public Guidebook for North Carolina and lunch is included in the cost of the class.\n\n\n\nThe Notary Public Class will be held Monday\, September 22 from 8:00 am - 5:00 pm in the Garner Chamber Conference Room. The cost is $160 for members and $180 for non-members. Lunch and book are included in pricing.\n\n\n\nPLEASE BRING A LAPTOP DEVICE AS THE EXAM AT THE END OF CLASS WILL TAKE PLACE ONLINE!!\n\n\n\nYOU WILL NEED TO HAVE ID [I.E. LICENSE]\n\n\n\nCLASS STARTS PROMPTLY AT 8 AM PLEASE ARRIVE BEFORE THIS TIME!
X-ALT-DESC;FMTTYPE=text/html:<span style="font-size: 14px\;"><span style="font-family: arial\;"><strong>Registration Closed!</strong><br />\n<br />\nDoes your business need a Notary?&nbsp\;</span></span><span style="font-family: arial\; font-size: 14px\; line-height: 20.8px\;">In partnership with Wake Technical Community College\, the Chamber is offering a Notary Public Training Class on Monday\, September 22. The full-day course offers an understanding of the qualifications and requirements to practice as a notary public in North Carolina. Course content includes understanding the Office of Notary Public\, general powers\,&nbsp\;attestation\, certification\, oaths and affidavits.</span><br style="font-family: arial\; font-size: 14px\; line-height: 20.8px\;" />\n<br style="font-family: arial\; font-size: 14px\; line-height: 20.8px\;" />\n<span style="font-family: arial\; font-size: 14px\; line-height: 20.8px\;">Participants take an exam at the end of class and complete the application for becoming a notary public. The Notary Public Guidebook for North Carolina and lunch is included in the cost of the class.</span><br style="font-family: arial\; font-size: 14px\; line-height: 20.8px\;" />\n<br style="font-family: arial\; font-size: 14px\; line-height: 20.8px\;" />\n<span style="font-family: arial\; font-size: 14px\; line-height: 20.8px\;">The Notary Public Class will be held Monday\, September 22 from 8:00 am - 5:00 pm in the Garner Chamber Conference Room. The cost is $160 for members and $180 for non-members. Lunch and book are included in pricing.</span><br />\n<br />\n<strong><u>PLEASE BRING A LAPTOP DEVICE AS THE EXAM AT THE END OF CLASS WILL TAKE PLACE ONLINE!!<br />\n<br />\nYOU WILL NEED TO HAVE ID [I.E. LICENSE]</u><br />\n<br />\nCLASS STARTS PROMPTLY AT 8 AM PLEASE ARRIVE BEFORE THIS TIME!</strong>
LOCATION:Garner Chamber of Commerce 401 Circle Drive Garner\, NC 27529
UID:e.443.31745
SEQUENCE:3
DTSTAMP:20260421T082046Z
URL:https://business.garnerchamber.com/events/details/notary-public-class-registration-closed-31745
END:VEVENT

END:VCALENDAR
