BEGIN:VCALENDAR
VERSION:2.0
PRODID:-//ChamberMaster//Event Calendar 2.0//EN
METHOD:PUBLISH
X-PUBLISHED-TTL:P3D
REFRESH-INTERVAL:P3D
CALSCALE:GREGORIAN
BEGIN:VEVENT
DTSTART:20260327T230000Z
DTEND:20260328T010000Z
X-MICROSOFT-CDO-ALLDAYEVENT:FALSE
SUMMARY:Pride and Prejudice presented by Spiritual Twist Productions
DESCRIPTION:When sharp-tongued Elizabeth Bennet meets the wealthy but arrogant Mr. Darcy\, sparks fly and ignite both tension and curiosity. As scandal\, family drama\, and shifting first impressions unfold\, Elizabeth begins to see that there may be more to Darcy and to herself than she first believed. Between social expectations\, rash decisions\, and unexpected twists\, nothing and no one is quite what they seem. Will they allow their pride to disrupt God's plan for their lives? Or will they learn to look beyond their misguided first impressions?
X-ALT-DESC;FMTTYPE=text/html:<span style="background-color:transparent\; color:rgb(0\, 0\, 0)\; font-family:times new roman\,serif\; font-size:11pt">When sharp-tongued Elizabeth Bennet meets the wealthy but arrogant Mr. Darcy\, sparks fly and ignite both tension and curiosity. As scandal\, family drama\, and shifting first impressions unfold\, Elizabeth begins to see that there may be more to Darcy&mdash\;and to herself&mdash\;than she first believed. Between social expectations\, rash decisions\, and unexpected twists\, nothing&mdash\;and no one&mdash\;is quite what they seem. Will they allow their pride to disrupt God&rsquo\;s plan for their lives? Or will they learn to look beyond their misguided first impressions?</span>
LOCATION:Spiritual Twist Productions 1250 Aversboro Rd Raleigh\, NC 27529
UID:e.443.32437
SEQUENCE:3
DTSTAMP:20260421T095712Z
URL:https://business.garnerchamber.com/events/details/pride-and-prejudice-presented-by-spiritual-twist-productions-32437
END:VEVENT

END:VCALENDAR
