BEGIN:VCALENDAR
VERSION:2.0
PRODID:-//ChamberMaster//Event Calendar 2.0//EN
METHOD:PUBLISH
X-PUBLISHED-TTL:P3D
REFRESH-INTERVAL:P3D
CALSCALE:GREGORIAN
BEGIN:VEVENT
DTSTART:20260606T180000Z
DTEND:20260606T200000Z
X-MICROSOFT-CDO-ALLDAYEVENT:FALSE
SUMMARY:Spiritual Twist Productions presents "Mighty Samson: Designed for His Purpose"
DESCRIPTION:It is the 12th Century BC and the Israelites have gotten themselves into a mess once again: they find themselves in Philistine captivity. Like always\, when they are in a mess\, the Israelites turn to God for deliverance. This time He gives them Samson\, a special man with mighty strength from God. This mighty strength makes Samson very popular with both the Israelites and the Philistines. However\, it also creates many enemies\, including the Great Five Philistine Lords. Full of daring adventures\, comedy\, and excitement\, we'll follow Samson throughout his life as he deals with both friend and foe and as he discovers his biggest enemy\, himself. Will he overcome these struggles? Will he live out his purpose? Follow the exciting and thrilling story of "Mighty Samson\," one you won't want to miss!
X-ALT-DESC;FMTTYPE=text/html:<span style="background-color:transparent\; color:rgb(0\, 0\, 0)\; font-family:times new roman\,serif\; font-size:12pt">It is the 12th Century BC and the Israelites have gotten themselves into a mess once again: they find themselves in Philistine captivity. Like always\, when they are in a mess\, the Israelites turn to God for deliverance. This time He gives them Samson\, a special man with mighty strength from God. This mighty strength makes Samson very popular with both the Israelites and the Philistines. However\, it also creates many enemies\, including the Great Five Philistine Lords. Full of daring adventures\, comedy\, and excitement\, we&rsquo\;ll follow Samson throughout his life as he deals with both friend and foe and as he discovers his biggest enemy\, himself. Will he overcome these struggles? Will he live out his purpose? Follow the exciting and thrilling story of &ldquo\;Mighty Samson\,&rdquo\; one you won&#39\;t want to miss!&nbsp\;</span>
LOCATION:Spiritual Twist Productions 1250 Aversboro Rd Raleigh\, NC 27529
UID:e.443.32653
SEQUENCE:3
DTSTAMP:20260423T160201Z
URL:https://business.garnerchamber.com/events/details/spiritual-twist-productions-presents-mighty-samson-designed-for-his-purpose-06-06-2026-32653
END:VEVENT

END:VCALENDAR
